Workbook

Sheet Zał. Nr 1
D2: Preliminarz przychodów i kosztów | N2: ZFN | O2: ZUS | P2: urlop
A3: studiów niestacjonarnych prowadzonych | N3: 0.085 | O3: 0.1964 | P3: 0.14342629
A4: na Wydziale/w Instytucie
G5: w roku akademickim
B7: studiów podyplomowych
B8: innej formy kształcenia
D9: w okresie od……….do…………
A10: konto kosztowe:
A13: 1) | B13: Planowane przychody na rok akademicki | H13: (poz. 1a + poz. 1b) | L13: =L14+L15 -> 0
B14: 1a) | C14: semestr letni (pkt. 2a) Zał. Nr 1.1) | L14: ='Zał. Nr 1.1'!I24 -> 0
B15: 1b) | C15: semestr zimowy (pkt. 2b) Zał. Nr 1.1) | L15: ='Zał. Nr 1.1'!I25 -> 0
H17: z-ca kierownika jednostki organizacyjnej ds. kształcenia

Sheet Zał. Nr 1.1
A1: 1) | B1: Planowane przychody z tytułu czesnego na rok akademickim
A3: Lp | B3: Kierunek | C3: Semestr letni | F3: Semestr zimowy | I3: Kwota
C4: liczba studentów | D4: czesne | E4: Razem (3x4) | F4: liczba studentów | G4: czesne | H4: Razem (6x7)
A5: 1 | B5: 2 | C5: 3 | D5: 4 | E5: 5 | F5: 6 | G5: 7 | H5: 8 | I5: 9
E6: =IF(C6*D6=0,"",C6*D6) | H6: =IF(F6*G6=0,"",F6*G6) | I6: =IF(SUM(E6,H6)=0,"",SUM(E6,H6))
E7: =IF(C7*D7=0,"",C7*D7) | H7: =IF(F7*G7=0,"",F7*G7) | I7: =IF(SUM(E7,H7)=0,"",SUM(E7,H7))
E8: =IF(C8*D8=0,"",C8*D8) | H8: =IF(F8*G8=0,"",F8*G8) | I8: =IF(SUM(E8,H8)=0,"",SUM(E8,H8))
E9: =IF(C9*D9=0,"",C9*D9) | H9: =IF(F9*G9=0,"",F9*G9) | I9: =IF(SUM(E9,H9)=0,"",SUM(E9,H9))
E10: =IF(C10*D10=0,"",C10*D10) | H10: =IF(F10*G10=0,"",F10*G10) | I10: =IF(SUM(E10,H10)=0,"",SUM(E10,H10))
E11: =IF(C11*D11=0,"",C11*D11) | H11: =IF(F11*G11=0,"",F11*G11) | I11: =IF(SUM(E11,H11)=0,"",SUM(E11,H11))
E12: =IF(C12*D12=0,"",C12*D12) | H12: =IF(F12*G12=0,"",F12*G12) | I12: =IF(SUM(E12,H12)=0,"",SUM(E12,H12))
B13: Razem: | C13: =SUM(C6:C12) -> 0 | E13: =SUM(E6:E12) -> 0 | F13: =SUM(F6:F12) -> 0 | H13: =SUM(H6:H12) -> 0 | I13: =SUM(I6:I12) -> 0
A16: Planowany ubytek studentów:
B17: a) w semestrze letnim | I17: =C17*E13 -> 0
B18: b) w semestrze zimowym | I18: =C18*H13 -> 0
A21: 2) | B21: Planowane przychody z tytułu czesnego (po pomniejszeniu
D22: o planowany ubytek) w roku akademickim | F22: wyniosą:
B24: 2a) w semestrze letnim | I24: =E13-I17 -> 0
B25: 2b) w semestrze zimowym | I25: =H13-I18 -> 0

Sheet Zał. Nr 1.2
A1: Planowane koszty:
A3: 1 | B3: Wynagrodzenie osobowe - dodatki zadaniowe (Zał. Nr 1.3 i 1.4) | O3: =('Zał. Nr 1.3'!H11+'Zał. Nr 1.4'!H11) -> 0
A4: 2. | B4: Dodatkowe wynagrodzenie roczne | G4: (8,5% | I4: od poz. 1) | O4: =O3*8.5/100 -> 0
A5: 3. | B5: ZUS | D5: ='Zał. Nr 1'!$O$3 -> 0.1964 | F5: od poz. 1 do poz.2) | O5: =(O3+O4)*19.64/100 -> 0
A6: 4. | B6: Wynagrodzenie osobowe - godziny ponadwymiarowe nauczycieli akademickich z Uczelni dotyczące procesu dydaktycznego (Zał. Nr 1.5) | O6: ='Zał. Nr 1.5'!F10 -> 0
A7: 5. | B7: Dodatkowe wynagrodzenie roczne | G7: (8,5% | I7: od poz. 4) | O7: =O6*8.5/100 -> 0
A8: 6. | B8: ZUS | D8: ='Zał. Nr 1'!$O$3 -> 0.1964 | F8: od poz. 4 do poz. 5) | O8: =(O6+O7)*D8 -> 0
A9: 7. | B9: Wynagrodzenie bezosobowe osób spoza Uczelni (ze składką ZUS) dotyczące procesu dydaktycznego (Zał. Nr 1.6) | O9: ='Zał. Nr 1.6'!F18 -> 0
A10: 8. | B10: ZUS | E10: (19,64% | F10: od poz. 7) | O10: =O9*19.64/100 -> 0
A11: 9. | B11: Wynagrodzenie bezosobowe osób spoza Uczelni (bez składki ZUS), dotyczące procesu dydaktycznego (Zał. Nr 1.7) | O11: ='Zał. Nr 1.7'!F18 -> 0
A12: 10. | B12: Usługi edukacyjne świadczone przez osoby prowadzące działalność gospodarczą - zajęcia dydak- tyczne (Zał. Nr 1.8) | O12: ='Zał. Nr 1.8'!G18 -> 0
A13: 11. | B13: Koszty rzeczowe (Zał. Nr 1.9) | O13: ='Zał. Nr 1.9'!F11 -> 0
A14: 12. | B14: Koszty ogółem (suma poz. od 1 do 11) | O14: =SUM(O3:O13) -> 0

Sheet Zał. Nr 1.3
A3: Wynagrodzenia osobowe - dodatki specjalne dla kierownika danej formy kształcenia
A4: Lp. | B4: Jednostka | C4: Imię i nazwisko | D4: Płatne (od - do) | F4: Kwota | G4: Liczba miesięcy | H4: Razem (5*6)
A6: 1 | B6: 2 | C6: 3 | D6: 4 | F6: 5 | G6: 6 | H6: 7
H7: =F7*G7 -> 0
H8: =F8*G8 -> 0
H9: =F9*G9 -> 0
H10: =F10*G10 -> 0
G11: Razem : | H11: =SUM(H7:H10) -> 0

Sheet Zał. Nr 1.4
A3: Wynagrodzenia osobowe - dodatki specjalne za obsługę administracyjną danej formy kształcenia
A4: Lp. | B4: Jednostka | C4: Imię i nazwisko | D4: Płatne (od - do) | F4: Kwota | G4: Liczba miesięcy | H4: Razem (5*6)
A6: 1 | B6: 2 | C6: 3 | D6: 4 | F6: 5 | G6: 6 | H6: 7
H7: =F7*G7 -> 0
H8: =F8*G8 -> 0
H9: =F9*G9 -> 0
H10: =F10*G10 -> 0
G11: Razem : | H11: =SUM(H7:H10) -> 0

Sheet Zał. Nr 1.5
A1: Wynagrodzenie osobowe - godziny ponadwymiarowe nauczycieli akademickich z Uczelni, dotyczące procesu dydaktycznego
A3: Lp | B3: Kierunek | C3: Stanowisko | D3: Liczba godzin wg planu studiów | E3: Stawka | F3: Razem (4x5)
E4: za godzinę
A5: 1 | B5: 2 | C5: 3 | D5: 4 | E5: 5 | F5: 6
A6: 1 | C6: profesor | E6: 97 | F6: =IF(D6*E6=0,"",D6*E6)
A7: 2 | C7: prof. uczelni | E7: 83 | F7: =IF(D7*E7=0,"",D7*E7)
A8: 3 | C8: Adiunkt, st. wykładowca | E8: 69 | F8: =IF(D8*E8=0,"",D8*E8)
A9: 4 | C9: Asystent, wykładowca, lektor, instruktor | E9: 45 | F9: =IF(D9*E9=0,"",D9*E9)
C10: Razem: | D10: =SUM(D6:D9) -> 0 | F10: =SUM(F6:F9) -> 0

Sheet Zał. Nr 1.6
A1: Wynagrodzenie bezosobowe nauczycieli akademickich spoza Uczelni (ze składką ZUS), dotyczące
A2: procesu dydaktycznego
A3: Lp | B3: Kierunek | C3: Stanowisko | D3: Liczba godzin wg planu studiów | E3: Stawka | F3: Razem (4x5)
E4: za godzinę
A5: 1 | B5: 2 | C5: 3 | D5: 4 | E5: 5 | F5: 6
A6: 1 | F6: =IF(D6*E6=0,"",D6*E6)
A7: 2 | F7: =IF(D7*E7=0,"",D7*E7)
A8: 3 | F8: =IF(D8*E8=0,"",D8*E8)
A9: 4 | F9: =IF(D9*E9=0,"",D9*E9)
A10: 5 | F10: =IF(D10*E10=0,"",D10*E10)
A11: 6 | F11: =IF(D11*E11=0,"",D11*E11)
A12: 7 | F12: =IF(D12*E12=0,"",D12*E12)
A13: 8 | F13: =IF(D13*E13=0,"",D13*E13)
A14: 9 | F14: =IF(D14*E14=0,"",D14*E14)
A15: 10 | F15: =IF(D15*E15=0,"",D15*E15)
A16: 11 | F16: =IF(D16*E16=0,"",D16*E16)
A17: 12 | F17: =IF(D17*E17=0,"",D17*E17)
C18: Razem: | D18: =SUM(D6:D17) -> 0 | F18: =SUM(F6:F17) -> 0

Sheet Zał. Nr 1.7
A1: Wynagrodzenie bezosobowe nauczycieli akademickich spoza Uczelni (bez składki ZUS), dotyczące
A2: procesu dydaktycznego
A3: Lp | B3: Kierunek | C3: Stanowisko | D3: Liczba godzin wg planu studiów | E3: Stawka | F3: Razem (4x5)
E4: za godzinę
A5: 1 | B5: 2 | C5: 3 | D5: 4 | E5: 5 | F5: 6
A6: 1 | F6: =IF(D6*E6=0,"",D6*E6)
A7: 2 | F7: =IF(D7*E7=0,"",D7*E7)
A8: 3 | F8: =IF(D8*E8=0,"",D8*E8)
A9: 4 | F9: =IF(D9*E9=0,"",D9*E9)
A10: 5 | F10: =IF(D10*E10=0,"",D10*E10)
A11: 6 | F11: =IF(D11*E11=0,"",D11*E11)
A12: 7 | F12: =IF(D12*E12=0,"",D12*E12)
A13: 8 | F13: =IF(D13*E13=0,"",D13*E13)
A14: 9 | F14: =IF(D14*E14=0,"",D14*E14)
A15: 10 | F15: =IF(D15*E15=0,"",D15*E15)
A16: 11 | F16: =IF(D16*E16=0,"",D16*E16)
A17: 12 | F17: =IF(D17*E17=0,"",D17*E17)
C18: Razem: | D18: =SUM(D6:D17) -> 0 | F18: =SUM(F6:F17) -> 0

Sheet Zał. Nr 1.8
A1: Usługi edukacyjne świadczone przez osoby prowadzące działalność gospodarczą,
A2: - zajęcia dydaktyczne
A3: Lp | B3: Kierunek | C3: Stanowisko | E3: Liczba godzin wg planu studiów | F3: Stawka | G3: Razem (4x5)
F4: za godzinę
A5: 1 | B5: 2 | C5: 3 | E5: 4 | F5: 5 | G5: 6
A6: 1 | G6: =IF(E6*F6=0,"",E6*F6)
A7: 2 | G7: =IF(E7*F7=0,"",E7*F7)
A8: 3 | G8: =IF(E8*F8=0,"",E8*F8)
A9: 4 | G9: =IF(E9*F9=0,"",E9*F9)
A10: 5 | G10: =IF(E10*F10=0,"",E10*F10)
A11: 6 | G11: =IF(E11*F11=0,"",E11*F11)
A12: 7 | G12: =IF(E12*F12=0,"",E12*F12)
A13: 8 | G13: =IF(E13*F13=0,"",E13*F13)
A14: 9 | G14: =IF(E14*F14=0,"",E14*F14)
A15: 10 | G15: =IF(E15*F15=0,"",E15*F15)
A16: 11 | G16: =IF(E16*F16=0,"",E16*F16)
A17: 12 | G17: =IF(E17*F17=0,"",E17*F17)
D18: Razem: | E18: =SUM(E6:E17) -> 0 | G18: =SUM(G6:G17) -> 0

Sheet Zał. Nr 1.9
A1: Koszty rzeczowe (w tym: materiały biurowe, tonery i in. koszty związane z realizacją usług edukacyjnych
A3: Lp | B3: Wyszczególnienie | D3: Liczba | E3: Cena | F3: Wartość
D4: sztuk | E4: jednostkowa | F4: (3x4)
A5: 1 | B5: 2 | D5: 3 | E5: 4 | F5: 5
F6: =IF(D6*E6=0,"",D6*E6)
F7: =IF(D7*E7=0,"",D7*E7)
F8: =IF(D8*E8=0,"",D8*E8)
F9: =IF(D9*E9=0,"",D9*E9)
F10: =IF(D10*E10=0,"",D10*E10)
E11: Razem: | F11: =SUM(F6:F10) -> 0
