Workbook

Sheet Zał. Nr 1a
D2: Aneks nr | F2: do preliminarza przychodów i kosztów | O2: ZFN | P2: ZUS | Q2: urlop
A3: studiów niestacjonarnych prowadzonych | O3: 0.085 | P3: 0.1964 | Q3: 0.14342629
A4: na Wydziale/w Instytucie
G5: w roku akademickim
B7: studiów podyplomowych
B8: innej formy kształcenia
D9: w okresie od……….do…………
A10: konto kosztowe: | N10: PRELIMINARZ/ ANEKS NR
L11: ANEKS NR
A12: 1) | B12: Planowane przychody na rok kalendarzowy | G12: =$A$1 -> 0 | H12: ((poz. 1a) + poz. 1b)) | L12: =L13+L14 -> 0 | N12: =N13+N14 -> 0
B13: 1a) | C13: semestr letni (pkt. 2a) Zał. Nr 1a.1) | L13: ='Zał. Nr 1a.1'!I24 -> 0 | N13: ='Zał. Nr 1a.1'!K24 -> 0
B14: 1b) | C14: semestr zimowy (pkt. 2b) Zał. Nr 1a.1) | L14: ='Zał. Nr 1a.1'!I25 -> 0 | N14: ='Zał. Nr 1a.1'!K25 -> 0
A16: 2) | B16: Planowane koszty (Zał. 1a.2) | L16: ='Zał. Nr 1a.2'!O21 -> 0 | N16: ='Zał. Nr 1a.2'!Q21 -> 0
A17: 3) | B17: Różnica przychody - koszty (poz. 1 - poz.2)* | L17: =L12-L16 -> 0 | N17: =N12-N16 -> 0
J21: z-ca kierownika jednostki organizacyjnej ds. kształcenia
A24: * | B24: Różnica między planowanymi przychodami a kosztami nie może być niższa niż 30% planowanych przychodów

Sheet Zał. Nr 1a.1
A1: 1) | B1: Planowane przychody z tytułu czesnego na rok kalendarzowy | G1: ='Zał. Nr 1a'!$A$1 -> 0 | K1: PRELIMINARZ/ ANEKS NR
I2: ANEKS NR
A3: Lp | B3: Kierunek | C3: Semestr letni | F3: Semestr zimowy | I3: Kwota | K3: Kwota
C4: liczba studentów | D4: czesne | E4: Razem (3x4) | F4: liczba studentów | G4: czesne | H4: Razem (6x7)
A5: 1 | B5: 2 | C5: 3 | D5: 4 | E5: 5 | F5: 6 | G5: 7 | H5: 8 | I5: 9 | K5: 9
E6: =C6*D6 -> 0 | H6: =F6*G6 -> 0
E7: =C7*D7 -> 0 | H7: =F7*G7 -> 0
E8: =C8*D8 -> 0 | H8: =F8*G8 -> 0
E9: =C9*D9 -> 0 | H9: =F9*G9 -> 0
E10: =C10*D10 -> 0 | H10: =F10*G10 -> 0
E11: =C11*D11 -> 0 | H11: =F11*G11 -> 0
E12: =C12*D12 -> 0 | H12: =F12*G12 -> 0 | I12: =IF(SUM(E12,H12)=0,"",SUM(E12,H12)) | K12: =IF(SUM(G12,J12)=0,"",SUM(G12,J12))
B13: Razem: | C13: =SUM(C6:C12) -> 0 | E13: =SUM(E6:E12) -> 0 | F13: =SUM(F6:F12) -> 0 | H13: =SUM(H6:H12) -> 0 | I13: =SUM(I6:I12) -> 0 | K13: =SUM(K6:K12) -> 0
A16: Planowany ubytek studentów:
B17: a) w semestrze letnim | I17: =C17*E13 -> 0
B18: b) w semestrze zimowym | I18: =C18*H13 -> 0
A21: 2) | B21: Planowane przychody z tytułu czesnego (po pomniejszeniu
D22: o planowany ubytek) w roku akademickim | F22: wyniosą:
B24: 2a) w semestrze letnim | I24: =E13-I17 -> 0
B25: 2b) w semestrze zimowym | I25: =H13-I18 -> 0

Sheet Zał. Nr 1a.2
A1: Planowane koszty: | Q1: PRELIMINARZ/ ANEKS NR
O2: ANEKS NR
A3: 1 | B3: Wynagrodzenie osobowe - dodatki zadaniowe (Zał. Nr 1a.3 i 1a.4) | O3: ='Zał. Nr 1a.3'!G12+'Zał. Nr 1a.4'!G12 -> 0
A4: 2. | B4: Dodatkowe wynagrodzenie roczne | G4: (8,5% | I4: od poz. 1) | O4: =O3*8.5/100 -> 0
A5: 3 | B5: ZUS | D5: ='[1]Zał. Nr 1'!$O$3 -> 0.1964 | F5: (od poz. 1 do poz.2) | O5: =(O3+O4)*19.64/100 -> 0
A6: 4 | B6: Pracownicze Plany Kapitałowe (1,5% od kwoty …………..)* | O6: =J6*1.5/100 -> 0
A7: 5 | B7: Wynagrodzenie bezosobowe za planowanie zajęć (Zał. Nr 1a.5) | O7: ='Zał. Nr 1a.5 '!F12 -> 0
A8: 6 | B8: ZUS | D8: ='[1]Zał. Nr 1'!$O$3 -> 0.1964 | F8: (od poz. 5) | O8: =O7*19.64/100 -> 0
A9: 7 | B9: Pracownicze Plany Kapitałowe (1,5% od kwoty …………..)* | O9: =J9*1.5/100 -> 0
A10: 8 | B10: Wynagrodzenie osobowe - godziny ponadwymiarowe nauczycieli akademickich z Uczelni dotyczące procesu dydaktycznego (Zał. Nr 1a.6) | O10: ='Zał. Nr 1a. 6'!F9 -> 0
A11: 9 | B11: Dodatkowe wynagrodzenie roczne | G11: (8,5% | I11: do poz. 8) | O11: =O10*8.5/100 -> 0
A12: 10 | B12: ZUS | D12: ='[1]Zał. Nr 1'!$O$3 -> 0.1964 | F12: (od poz. 8 do poz.9) | O12: =(O10+O11)*19.64/100 -> 0
A13: 11 | B13: Pracownicze Plany Kapitałowe (1,5% od kwoty …………..)* | O13: =J13*1.5/100 -> 0
A14: 12 | B14: Wynagrodzenie bezosobowe osób spoza Uczelni (ze składką ZUS) dotyczące procesu dydaktycznego (Zał. Nr 1a.7) | O14: ='Zał. Nr 1a. 7'!F17 -> 0
A15: 13 | B15: ZUS | E15: (19,64% | F15: od poz. 12) | O15: =O14*19.64/100 -> 0
A16: 14 | B16: Pracownicze Plany Kapitałowe (1,5% od kwoty …………..)* | O16: =J16*1.5/100 -> 0
A17: 15 | B17: Wynagrodzenie bezosobowe osób spoza Uczelni (bez składki ZUS), dotyczące procesu dydaktycznego (Zał. Nr 1a.8) | O17: ='Zał. Nr 1a. 8'!F17 -> 0
A18: 16 | B18: Pracownicze Plany Kapitałowe (1,5% od kwoty …………..)* | O18: =J18*1.5/100 -> 0
A19: 17 | B19: Usługi edukacyjne świadczone przez osoby prowadzące działalność gospodarczą - zajęcia dydak- tyczne (Zał. Nr 1a.9) | O19: ='Zał. Nr 1a. 9'!G18 -> 0
A20: 18 | B20: Koszty rzeczowe (Zał. Nr 1a.10) | O20: ='Zał. Nr 1a.10'!F12 -> 0
A21: 19 | B21: Koszty ogółem (suma poz. od 1 do 18) | O21: =SUM(O3:O20) -> 0 | P21: =SUM(P3:P20) -> 0 | Q21: =SUM(Q3:Q20) -> 0
A22: *1,5% naliczane jest od wynagrodzeń osób, które przystąpiły do Pracowniczych Planów Kapitałowch

Sheet Zał. Nr 1a.3
G2: ANEKS NR | H2: PRELIMINARZ/ ANEKS NR
A3: Wynagrodzenia osobowe - dodatki specjalne dla kierownika danej formy kształcenia
A4: Lp. | B4: Jednostka | C4: Imię i nazwisko | D4: Płatne (od - do) | E4: Kwota | F4: Liczba miesięcy | G4: Razem (5*6) | H4: Razem (5*6)
A6: 1 | B6: 2 | C6: 3 | D6: 4 | E6: 5 | F6: 6 | G6: 7 | H6: 7
G7: =IF(E7*F7=0,"",E7*F7)
G8: =IF(E8*F8=0,"",E8*F8)
G9: =IF(E9*F9=0,"",E9*F9)
G10: =IF(E10*F10=0,"",E10*F10)
G11: =IF(E11*F11=0,"",E11*F11)
F12: Razem: | G12: =SUM(G7:G11) -> 0 | H12: =SUM(H7:H11) -> 0

Sheet Zał. Nr 1a.4
I2: PRELIMINARZ/ ANEKS NR
A3: Wynagrodzenia osobowe - dodatki specjalne za obsługę administracyjną danej formy kształcenia
A4: Lp. | B4: Jednostka | C4: Imię i nazwisko | D4: Płatne (od - do) | E4: Kwota | F4: Liczba miesięcy | G4: Razem (5*6) | I4: Razem (5*6)
A6: 1 | B6: 2 | C6: 3 | D6: 4 | E6: 5 | F6: 6 | G6: 7 | I6: 7
G7: =IF(E7*F7=0,"",E7*F7)
G8: =IF(E8*F8=0,"",E8*F8)
G9: =IF(E9*F9=0,"",E9*F9)
G10: =IF(E10*F10=0,"",E10*F10)
G11: =IF(E11*F11=0,"",E11*F11)
F12: Razem: | G12: =SUM(G7:G11) -> 0 | I12: =SUM(I7:I11) -> 0

Sheet Zał. Nr 1a.5 
A3: Wynagrodzenia bezosobowe za planowanie zajęć
A4: Lp. | B4: Jednostka | C4: Imię i nazwisko | D4: Liczba wyplanowanych jednostek | E4: % wynagr. asystenta | F4: Razem (4*5) | H4: PRELIMINARZ/ ANEKS NR
A6: 1 | B6: 2 | C6: 3 | D6: 4 | E6: 5 | F6: 7 | H6: Razem (4x5)
F7: =D7*E7 -> 0 | H7: 6
F8: =D8*E8 -> 0
F9: =D9*E9 -> 0
F11: =D11*E11 -> 0
E12: Razem | F12: =SUM(F7:F11) -> 0 | H12: =SUM(H7:H11) -> 6

Sheet Zał. Nr 1a. 6
A1: Wynagrodzenie osobowe - godziny ponadwymiarowe nauczycieli akademickich z Uczelni, dotyczące procesu dydaktycznego | H1: PRELIMINARZ/ ANEKS NR
F2: ANEKS NR
A3: Lp | B3: Kierunek | C3: Stanowisko | D3: Liczba godzin wg planu studiów | E3: Stawka za godzinę | F3: Razem (4x5) | H3: Razem (4x5)
A4: 1 | B4: 2 | C4: 3 | D4: 4 | E4: 5 | F4: 6 | H4: 6
A5: 1 | C5: profesor | E5: 97 | F5: =IF(D5*E5=0,"",D5*E5)
A6: 2 | C6: prof. uczelni | E6: 83 | F6: =IF(D6*E6=0,"",D6*E6)
A7: 3 | C7: Adiunkt, st. wykładowca | E7: 69 | F7: =IF(D7*E7=0,"",D7*E7)
A8: 4 | C8: Asystent, wykładowca, lektor, instruktor | E8: 45 | F8: =IF(D8*E8=0,"",D8*E8)
C9: Razem: | D9: =SUM(D5:D8) -> 0 | F9: =SUM(F5:F8) -> 0 | H9: =SUM(H5:H8) -> 0

Sheet Zał. Nr 1a. 7
A1: Wynagrodzenie bezosobowe osób spoza Uczelni (ze składką ZUS), dotyczące | H1: PRELIMINARZ/ ANEKS NR
A2: procesu dydaktycznego | F2: ANEKS NR
A3: Lp | B3: Kierunek | C3: Stanowisko | D3: Liczba godzin wg planu studiów | E3: Stawka za godzinę | F3: Razem (4x5) | H3: Razem (4x5)
A4: 1 | B4: 2 | C4: 3 | D4: 4 | E4: 5 | F4: 6 | H4: 6
A5: 1 | F5: =IF(D5*E5=0,"",D5*E5)
A6: 2 | F6: =IF(D6*E6=0,"",D6*E6)
A7: 3 | F7: =IF(D7*E7=0,"",D7*E7)
A8: 4 | F8: =IF(D8*E8=0,"",D8*E8)
A9: 5 | F9: =IF(D9*E9=0,"",D9*E9)
A10: 6 | F10: =IF(D10*E10=0,"",D10*E10)
A11: 7 | F11: =IF(D11*E11=0,"",D11*E11)
A12: 8 | F12: =IF(D12*E12=0,"",D12*E12)
A13: 9 | F13: =IF(D13*E13=0,"",D13*E13)
A14: 10 | F14: =IF(D14*E14=0,"",D14*E14)
A15: 11 | F15: =IF(D15*E15=0,"",D15*E15)
A16: 12 | F16: =IF(D16*E16=0,"",D16*E16)
C17: Razem: | D17: =SUM(D5:D16) -> 0 | F17: =SUM(F5:F16) -> 0 | H17: =SUM(H5:H16) -> 0

Sheet Zał. Nr 1a. 8
A1: Wynagrodzenie bezosobowe osób spoza Uczelni (bez składki ZUS), dotyczące | H1: PRELIMINARZ/ ANEKS NR
A2: procesu dydaktycznego | F2: ANEKS NR
A3: Lp | B3: Kierunek | C3: Stanowisko | D3: Liczba godzin wg planu studiów | E3: Stawka za godzinę | F3: Razem (4x5) | H3: Razem (4x5)
A4: 1 | B4: 2 | C4: 3 | D4: 4 | E4: 5 | F4: 6 | H4: 6
A5: 1 | F5: =IF(D5*E5=0,"",D5*E5)
A6: 2 | F6: =IF(D6*E6=0,"",D6*E6)
A7: 3 | F7: =IF(D7*E7=0,"",D7*E7)
A8: 4 | F8: =IF(D8*E8=0,"",D8*E8)
A9: 5 | F9: =IF(D9*E9=0,"",D9*E9)
A10: 6 | F10: =IF(D10*E10=0,"",D10*E10)
A11: 7 | F11: =IF(D11*E11=0,"",D11*E11)
A12: 8 | F12: =IF(D12*E12=0,"",D12*E12)
A13: 9 | F13: =IF(D13*E13=0,"",D13*E13)
A14: 10 | F14: =IF(D14*E14=0,"",D14*E14)
A15: 11 | F15: =IF(D15*E15=0,"",D15*E15)
A16: 12 | F16: =IF(D16*E16=0,"",D16*E16)
C17: Razem: | D17: =SUM(D5:D16) -> 0 | F17: =SUM(F5:F16) -> 0 | H17: =SUM(H5:H16) -> 0

Sheet Zał. Nr 1a. 9
A1: Usługi edukacyjne świadczone przez osoby prowadzące działalność gospodarczą, | I1: PRELIMINARZ/ ANEKS NR
A2: - zajęcia dydaktyczne | G2: ANEKS NR
A3: Lp | B3: Kierunek | C3: Stanowisko | E3: Liczba godzin wg planu studiów | F3: Stawka | G3: Razem (4x5) | I3: Razem (4x5)
F4: za godzinę
A5: 1 | B5: 2 | C5: 3 | E5: 4 | F5: 5 | G5: 6 | I5: 6
A6: 1 | G6: =IF(E6*F6=0,"",E6*F6)
A7: 2 | G7: =IF(E7*F7=0,"",E7*F7)
A8: 3 | G8: =IF(E8*F8=0,"",E8*F8)
A9: 4 | G9: =IF(E9*F9=0,"",E9*F9)
A10: 5 | G10: =IF(E10*F10=0,"",E10*F10)
A11: 6 | G11: =IF(E11*F11=0,"",E11*F11)
A12: 7 | G12: =IF(E12*F12=0,"",E12*F12)
A13: 8 | G13: =IF(E13*F13=0,"",E13*F13)
A14: 9 | G14: =IF(E14*F14=0,"",E14*F14)
A15: 10 | G15: =IF(E15*F15=0,"",E15*F15)
A16: 11 | G16: =IF(E16*F16=0,"",E16*F16)
A17: 12 | G17: =IF(E17*F17=0,"",E17*F17)
D18: Razem: | E18: =SUM(E6:E17) -> 0 | G18: =SUM(G6:G17) -> 0 | I18: =SUM(I6:I17) -> 0

Sheet Zał. Nr 1a.10
B1: Koszty rzeczowe (w tym: materiały biurowe, tonery i in. koszty związane z realizacją usług edukacyjnych | H1: PRELIMINARZ/ ANEKS NR
F2: ANEKS NR
A3: Lp | B3: Wyszczególnienie | D3: Liczba sztuk | E3: Cena jednostkowa | F3: Wartość (3x4) | H3: Wartość (3x4)
A4: 1 | B4: 2 | D4: 3 | E4: 4 | F4: 5 | H4: 5
F5: =IF(D5*E5=0,"",D5*E5)
F6: =IF(D6*E6=0,"",D6*E6)
F7: =IF(D7*E7=0,"",D7*E7)
F8: =IF(D8*E8=0,"",D8*E8)
F9: =IF(D9*E9=0,"",D9*E9)
F10: =IF(D10*E10=0,"",D10*E10)
F11: =IF(D11*E11=0,"",D11*E11)
E12: Razem: | F12: =SUM(F6:F11) -> 0 | H12: =SUM(H6:H11) -> 0 | O12: =SUM(J12) -> 0
